Package: dreamlet Version: 1.4.1 Command: /home/biocbuild/bbs-3.20-bioc/R/bin/R CMD INSTALL dreamlet StartedAt: 2025-01-30 16:01:42 -0500 (Thu, 30 Jan 2025) EndedAt: 2025-01-30 16:02:47 -0500 (Thu, 30 Jan 2025) EllapsedTime: 65.7 seconds RetCode: 0 Status: OK