Package: dreamlet Version: 1.4.1 Command: rm -rf dreamlet.buildbin-libdir && mkdir dreamlet.buildbin-libdir && F:\biocbuild\bbs-3.20-bioc\R\bin\R.exe CMD INSTALL --build --library=dreamlet.buildbin-libdir dreamlet_1.4.1.tar.gz StartedAt: 2025-02-04 08:24:27 -0500 (Tue, 04 Feb 2025) EndedAt: 2025-02-04 08:26:16 -0500 (Tue, 04 Feb 2025) EllapsedTime: 109.2 seconds RetCode: 0 Status: OK PackageFile: dreamlet_1.4.1.zip PackageFileSize: 3.836 MiB