Package: dreamlet Version: 1.4.1 Command: /home/biocbuild/R/R/bin/R CMD build --keep-empty-dirs --no-resave-data dreamlet StartedAt: 2025-02-03 23:17:55 -0000 (Mon, 03 Feb 2025) EndedAt: 2025-02-03 23:27:33 -0000 (Mon, 03 Feb 2025) EllapsedTime: 578.2 seconds RetCode: 0 Status: OK PackageFile: dreamlet_1.4.1.tar.gz PackageFileSize: 3.474 MiB