Package: dreamlet Version: 1.4.1 Command: /home/biocbuild/R/R/bin/R CMD check --install=check:dreamlet.install-out.txt --library=/home/biocbuild/R/R/site-library --no-vignettes --timings dreamlet_1.4.1.tar.gz StartedAt: 2025-02-04 06:35:40 -0000 (Tue, 04 Feb 2025) EndedAt: 2025-02-04 06:49:21 -0000 (Tue, 04 Feb 2025) EllapsedTime: 821.1 seconds RetCode: 0 Status: OK CheckDir: dreamlet.Rcheck Warnings: 0