Package: dreamlet Version: 1.4.1 Command: /home/biocbuild/R/R/bin/R CMD INSTALL dreamlet StartedAt: 2025-02-03 21:23:41 -0000 (Mon, 03 Feb 2025) EndedAt: 2025-02-03 21:25:12 -0000 (Mon, 03 Feb 2025) EllapsedTime: 90.3 seconds RetCode: 0 Status: OK