Package: drugTargetInteractions Version: 1.14.0 Command: rm -rf drugTargetInteractions.buildbin-libdir && mkdir drugTargetInteractions.buildbin-libdir && /Users/biocbuild/BBS/utils/build-universal.sh drugTargetInteractions_1.14.0.tar.gz /Library/Frameworks/R.framework/Resources/bin/R drugTargetInteractions.buildbin-libdir StartedAt: 2025-02-05 15:40:20 -0500 (Wed, 05 Feb 2025) EndedAt: 2025-02-05 15:41:08 -0500 (Wed, 05 Feb 2025) EllapsedTime: 48.4 seconds RetCode: 0 Status: OK PackageFile: drugTargetInteractions_1.14.0.tgz PackageFileSize: 1009 KiB