Package: drugTargetInteractions Version: 1.14.0 Command: /Library/Frameworks/R.framework/Resources/bin/R CMD build --keep-empty-dirs --no-resave-data drugTargetInteractions StartedAt: 2025-02-03 22:51:02 -0500 (Mon, 03 Feb 2025) EndedAt: 2025-02-03 22:53:21 -0500 (Mon, 03 Feb 2025) EllapsedTime: 139.3 seconds RetCode: 0 Status: OK PackageFile: drugTargetInteractions_1.14.0.tar.gz PackageFileSize: 958.8 KiB