Package: drugTargetInteractions Version: 1.14.0 Command: /Library/Frameworks/R.framework/Resources/bin/R CMD check --install=check:drugTargetInteractions.install-out.txt --library=/Library/Frameworks/R.framework/Resources/library --no-vignettes --timings drugTargetInteractions_1.14.0.tar.gz StartedAt: 2025-02-04 18:33:54 -0500 (Tue, 04 Feb 2025) EndedAt: 2025-02-04 18:39:50 -0500 (Tue, 04 Feb 2025) EllapsedTime: 356.1 seconds RetCode: 0 Status: OK CheckDir: drugTargetInteractions.Rcheck Warnings: 0