Package: drugTargetInteractions Version: 1.14.0 Command: /Library/Frameworks/R.framework/Resources/bin/R CMD build --keep-empty-dirs --no-resave-data drugTargetInteractions StartedAt: 2024-11-08 17:01:11 -0500 (Fri, 08 Nov 2024) EndedAt: 2024-11-08 17:01:54 -0500 (Fri, 08 Nov 2024) EllapsedTime: 42.4 seconds RetCode: 0 Status: OK PackageFile: drugTargetInteractions_1.14.0.tar.gz PackageFileSize: 958.9 KiB