Package: drugTargetInteractions Version: 1.14.0 Command: /Library/Frameworks/R.framework/Resources/bin/R CMD check --install=check:drugTargetInteractions.install-out.txt --library=/Library/Frameworks/R.framework/Resources/library --no-vignettes --timings drugTargetInteractions_1.14.0.tar.gz StartedAt: 2025-02-11 02:51:40 -0500 (Tue, 11 Feb 2025) EndedAt: 2025-02-11 03:02:27 -0500 (Tue, 11 Feb 2025) EllapsedTime: 647.2 seconds RetCode: 0 Status: OK CheckDir: drugTargetInteractions.Rcheck Warnings: 0