Package: drugTargetInteractions Version: 1.14.0 Command: /Library/Frameworks/R.framework/Resources/bin/R CMD INSTALL drugTargetInteractions StartedAt: 2025-02-10 15:47:25 -0500 (Mon, 10 Feb 2025) EndedAt: 2025-02-10 15:48:42 -0500 (Mon, 10 Feb 2025) EllapsedTime: 77.7 seconds RetCode: 0 Status: OK