Package: drugTargetInteractions Version: 1.14.0 Command: /home/biocbuild/bbs-3.20-bioc/R/bin/R CMD INSTALL drugTargetInteractions StartedAt: 2025-02-03 15:35:38 -0500 (Mon, 03 Feb 2025) EndedAt: 2025-02-03 15:36:15 -0500 (Mon, 03 Feb 2025) EllapsedTime: 36.6 seconds RetCode: 0 Status: OK