Package: drugTargetInteractions Version: 1.14.0 Command: F:\biocbuild\bbs-3.20-bioc\R\bin\R.exe CMD INSTALL drugTargetInteractions StartedAt: 2025-02-03 16:40:15 -0500 (Mon, 03 Feb 2025) EndedAt: 2025-02-03 16:41:22 -0500 (Mon, 03 Feb 2025) EllapsedTime: 66.3 seconds RetCode: 0 Status: OK