Package: drugTargetInteractions Version: 1.14.0 Command: /home/biocbuild/R/R/bin/R CMD build --keep-empty-dirs --no-resave-data drugTargetInteractions StartedAt: 2025-02-03 23:18:32 -0000 (Mon, 03 Feb 2025) EndedAt: 2025-02-03 23:20:29 -0000 (Mon, 03 Feb 2025) EllapsedTime: 117.0 seconds RetCode: 0 Status: OK PackageFile: drugTargetInteractions_1.14.0.tar.gz PackageFileSize: 1.03 MiB