Package: drugTargetInteractions Version: 1.14.0 Command: /home/biocbuild/R/R/bin/R CMD check --install=check:drugTargetInteractions.install-out.txt --library=/home/biocbuild/R/R/site-library --no-vignettes --timings drugTargetInteractions_1.14.0.tar.gz StartedAt: 2025-02-04 06:36:25 -0000 (Tue, 04 Feb 2025) EndedAt: 2025-02-04 06:42:58 -0000 (Tue, 04 Feb 2025) EllapsedTime: 393.6 seconds RetCode: 0 Status: OK CheckDir: drugTargetInteractions.Rcheck Warnings: 0