Package: easier Version: 1.12.0 Command: /Library/Frameworks/R.framework/Resources/bin/R CMD INSTALL easier StartedAt: 2025-02-03 18:13:59 -0500 (Mon, 03 Feb 2025) EndedAt: 2025-02-03 18:14:38 -0500 (Mon, 03 Feb 2025) EllapsedTime: 39.4 seconds RetCode: 0 Status: OK