Package: easier Version: 1.12.0 Command: /Library/Frameworks/R.framework/Resources/bin/R CMD build --keep-empty-dirs --no-resave-data easier StartedAt: 2025-02-03 18:41:16 -0500 (Mon, 03 Feb 2025) EndedAt: 2025-02-03 18:53:51 -0500 (Mon, 03 Feb 2025) EllapsedTime: 754.2 seconds RetCode: 0 Status: OK PackageFile: easier_1.12.0.tar.gz PackageFileSize: 3.68 MiB