Package: easier Version: 1.12.0 Command: /home/biocbuild/bbs-3.20-bioc/R/bin/R CMD INSTALL easier StartedAt: 2025-02-03 16:08:55 -0500 (Mon, 03 Feb 2025) EndedAt: 2025-02-03 16:09:32 -0500 (Mon, 03 Feb 2025) EllapsedTime: 36.8 seconds RetCode: 0 Status: OK