Package: easier Version: 1.12.0 Command: /home/biocbuild/R/R/bin/R CMD build --keep-empty-dirs --no-resave-data easier StartedAt: 2025-02-03 23:19:34 -0000 (Mon, 03 Feb 2025) EndedAt: 2025-02-03 23:26:20 -0000 (Mon, 03 Feb 2025) EllapsedTime: 406.2 seconds RetCode: 0 Status: OK PackageFile: easier_1.12.0.tar.gz PackageFileSize: 2.89 MiB