Package: easier Version: 1.12.0 Command: /home/biocbuild/R/R/bin/R CMD check --install=check:easier.install-out.txt --library=/home/biocbuild/R/R/site-library --no-vignettes --timings easier_1.12.0.tar.gz StartedAt: 2025-02-04 06:38:17 -0000 (Tue, 04 Feb 2025) EndedAt: 2025-02-04 06:49:41 -0000 (Tue, 04 Feb 2025) EllapsedTime: 683.9 seconds RetCode: 0 Status: OK CheckDir: easier.Rcheck Warnings: 0