Package: edgeR Version: 4.4.2 Maintainer: Yunshun Chen , Gordon Smyth , Aaron Lun , Mark Robinson MaintainerEmail: mark.robinson at imls.uzh.ch git_url: https://git.bioconductor.org/packages/edgeR git_branch: RELEASE_3_20 git_last_commit: c87d240 git_last_commit_date: 2025-01-24 01:20:52 -0500 (Fri, 24 Jan 2025)