Package: edgeR Version: 4.4.2 Command: /Library/Frameworks/R.framework/Resources/bin/R CMD check --install=check:edgeR.install-out.txt --library=/Library/Frameworks/R.framework/Resources/library --no-vignettes --timings edgeR_4.4.2.tar.gz StartedAt: 2025-02-04 18:48:20 -0500 (Tue, 04 Feb 2025) EndedAt: 2025-02-04 18:49:43 -0500 (Tue, 04 Feb 2025) EllapsedTime: 82.9 seconds RetCode: 0 Status: OK CheckDir: edgeR.Rcheck Warnings: 0