Package: edgeR Version: 4.4.2 Command: /Library/Frameworks/R.framework/Resources/bin/R CMD build --keep-empty-dirs --no-resave-data edgeR StartedAt: 2025-02-03 18:42:54 -0500 (Mon, 03 Feb 2025) EndedAt: 2025-02-03 18:43:45 -0500 (Mon, 03 Feb 2025) EllapsedTime: 51.3 seconds RetCode: 0 Status: OK PackageFile: edgeR_4.4.2.tar.gz PackageFileSize: 3.281 MiB