Package: edgeR Version: 4.4.2 Command: /Library/Frameworks/R.framework/Resources/bin/R CMD INSTALL edgeR StartedAt: 2025-02-03 15:17:57 -0500 (Mon, 03 Feb 2025) EndedAt: 2025-02-03 15:18:24 -0500 (Mon, 03 Feb 2025) EllapsedTime: 27.7 seconds RetCode: 0 Status: OK