Package: edgeR Version: 4.4.2 Command: /home/biocbuild/bbs-3.20-bioc/R/bin/R CMD check --install=check:edgeR.install-out.txt --library=/home/biocbuild/bbs-3.20-bioc/R/site-library --timings edgeR_4.4.2.tar.gz StartedAt: 2025-02-10 21:55:41 -0500 (Mon, 10 Feb 2025) EndedAt: 2025-02-10 21:56:59 -0500 (Mon, 10 Feb 2025) EllapsedTime: 78.1 seconds RetCode: 0 Status: OK CheckDir: edgeR.Rcheck Warnings: 0