Package: edgeR Version: 4.4.2 Command: /home/biocbuild/bbs-3.20-bioc/R/bin/R CMD INSTALL edgeR StartedAt: 2025-02-10 15:15:05 -0500 (Mon, 10 Feb 2025) EndedAt: 2025-02-10 15:15:30 -0500 (Mon, 10 Feb 2025) EllapsedTime: 24.6 seconds RetCode: 0 Status: OK