Package: edgeR Version: 4.4.2 Command: /home/biocbuild/R/R/bin/R CMD build --keep-empty-dirs --no-resave-data edgeR StartedAt: 2025-02-03 23:21:10 -0000 (Mon, 03 Feb 2025) EndedAt: 2025-02-03 23:21:36 -0000 (Mon, 03 Feb 2025) EllapsedTime: 26.0 seconds RetCode: 0 Status: OK PackageFile: edgeR_4.4.2.tar.gz PackageFileSize: 3.306 MiB