Package: edgeR Version: 4.4.2 Command: /home/biocbuild/R/R/bin/R CMD check --install=check:edgeR.install-out.txt --library=/home/biocbuild/R/R/site-library --no-vignettes --timings edgeR_4.4.2.tar.gz StartedAt: 2025-02-04 06:40:14 -0000 (Tue, 04 Feb 2025) EndedAt: 2025-02-04 06:41:54 -0000 (Tue, 04 Feb 2025) EllapsedTime: 100.1 seconds RetCode: 0 Status: OK CheckDir: edgeR.Rcheck Warnings: 0