Package: eds Version: 1.8.0 Command: /Library/Frameworks/R.framework/Resources/bin/R CMD build --keep-empty-dirs --no-resave-data eds StartedAt: 2025-02-03 23:02:51 -0500 (Mon, 03 Feb 2025) EndedAt: 2025-02-03 23:03:08 -0500 (Mon, 03 Feb 2025) EllapsedTime: 16.9 seconds RetCode: 0 Status: OK PackageFile: eds_1.8.0.tar.gz PackageFileSize: 217.5 KiB