Package: eds Version: 1.8.0 Command: /Library/Frameworks/R.framework/Resources/bin/R CMD INSTALL eds StartedAt: 2025-02-03 15:13:10 -0500 (Mon, 03 Feb 2025) EndedAt: 2025-02-03 15:13:25 -0500 (Mon, 03 Feb 2025) EllapsedTime: 14.1 seconds RetCode: 0 Status: OK