Package: eds Version: 1.8.0 Command: rm -rf eds.buildbin-libdir && mkdir eds.buildbin-libdir && /Users/biocbuild/BBS/utils/build-universal.sh eds_1.8.0.tar.gz /Library/Frameworks/R.framework/Resources/bin/R eds.buildbin-libdir StartedAt: 2025-02-11 13:08:43 -0500 (Tue, 11 Feb 2025) EndedAt: 2025-02-11 13:09:10 -0500 (Tue, 11 Feb 2025) EllapsedTime: 26.8 seconds RetCode: 0 Status: OK PackageFile: eds_1.8.0.tgz PackageFileSize: 257.8 KiB