Package: eds Version: 1.8.0 Command: /Library/Frameworks/R.framework/Resources/bin/R CMD check --install=check:eds.install-out.txt --library=/Library/Frameworks/R.framework/Resources/library --no-vignettes --timings eds_1.8.0.tar.gz StartedAt: 2025-02-04 03:11:36 -0500 (Tue, 04 Feb 2025) EndedAt: 2025-02-04 03:13:12 -0500 (Tue, 04 Feb 2025) EllapsedTime: 95.9 seconds RetCode: 0 Status: OK CheckDir: eds.Rcheck Warnings: 0