Package: eds Version: 1.8.0 Command: /Library/Frameworks/R.framework/Resources/bin/R CMD INSTALL eds StartedAt: 2025-02-10 15:05:05 -0500 (Mon, 10 Feb 2025) EndedAt: 2025-02-10 15:05:46 -0500 (Mon, 10 Feb 2025) EllapsedTime: 41.5 seconds RetCode: 0 Status: OK