Package: eds Version: 1.8.0 Command: /home/biocbuild/bbs-3.20-bioc/R/bin/R CMD check --install=check:eds.install-out.txt --library=/home/biocbuild/bbs-3.20-bioc/R/site-library --timings eds_1.8.0.tar.gz StartedAt: 2025-02-03 22:03:50 -0500 (Mon, 03 Feb 2025) EndedAt: 2025-02-03 22:04:27 -0500 (Mon, 03 Feb 2025) EllapsedTime: 37.0 seconds RetCode: 0 Status: OK CheckDir: eds.Rcheck Warnings: 0