Package: eds Version: 1.8.0 Command: /home/biocbuild/bbs-3.20-bioc/R/bin/R CMD INSTALL eds StartedAt: 2025-01-30 15:05:47 -0500 (Thu, 30 Jan 2025) EndedAt: 2025-01-30 15:06:14 -0500 (Thu, 30 Jan 2025) EllapsedTime: 27.1 seconds RetCode: 0 Status: OK