Package: eds Version: 1.8.0 Command: rm -rf eds.buildbin-libdir && mkdir eds.buildbin-libdir && F:\biocbuild\bbs-3.20-bioc\R\bin\R.exe CMD INSTALL --build --library=eds.buildbin-libdir eds_1.8.0.tar.gz StartedAt: 2025-02-04 08:25:33 -0500 (Tue, 04 Feb 2025) EndedAt: 2025-02-04 08:26:13 -0500 (Tue, 04 Feb 2025) EllapsedTime: 40.2 seconds RetCode: 0 Status: OK PackageFile: eds_1.8.0.zip PackageFileSize: 597.6 KiB