Package: eds Version: 1.8.0 Command: chmod a+r eds -R && F:\biocbuild\bbs-3.20-bioc\R\bin\R.exe CMD build --keep-empty-dirs --no-resave-data eds StartedAt: 2025-02-10 18:43:58 -0500 (Mon, 10 Feb 2025) EndedAt: 2025-02-10 18:44:26 -0500 (Mon, 10 Feb 2025) EllapsedTime: 28.3 seconds RetCode: 0 Status: OK PackageFile: eds_1.8.0.tar.gz PackageFileSize: 217.3 KiB