Package: eds Version: 1.8.0 Command: F:\biocbuild\bbs-3.20-bioc\R\bin\R.exe CMD check --no-multiarch --install=check:eds.install-out.txt --library=F:\biocbuild\bbs-3.20-bioc\R\library --no-vignettes --timings eds_1.8.0.tar.gz StartedAt: 2025-02-11 01:23:34 -0500 (Tue, 11 Feb 2025) EndedAt: 2025-02-11 01:24:44 -0500 (Tue, 11 Feb 2025) EllapsedTime: 69.6 seconds RetCode: 0 Status: OK CheckDir: eds.Rcheck Warnings: 0