Package: eds Version: 1.8.0 Command: F:\biocbuild\bbs-3.20-bioc\R\bin\R.exe CMD INSTALL eds StartedAt: 2025-02-10 15:27:35 -0500 (Mon, 10 Feb 2025) EndedAt: 2025-02-10 15:28:04 -0500 (Mon, 10 Feb 2025) EllapsedTime: 29.8 seconds RetCode: 0 Status: OK