Package: eds Version: 1.8.0 Command: /home/biocbuild/R/R/bin/R CMD build --keep-empty-dirs --no-resave-data eds StartedAt: 2025-02-10 23:09:56 -0000 (Mon, 10 Feb 2025) EndedAt: 2025-02-10 23:10:13 -0000 (Mon, 10 Feb 2025) EllapsedTime: 17.0 seconds RetCode: 0 Status: OK PackageFile: eds_1.8.0.tar.gz PackageFileSize: 240.8 KiB