Package: eiR Version: 1.46.0 Command: /Library/Frameworks/R.framework/Resources/bin/R CMD build --keep-empty-dirs --no-resave-data eiR StartedAt: 2025-02-03 23:03:10 -0500 (Mon, 03 Feb 2025) EndedAt: 2025-02-03 23:03:36 -0500 (Mon, 03 Feb 2025) EllapsedTime: 25.1 seconds RetCode: 0 Status: OK PackageFile: eiR_1.46.0.tar.gz PackageFileSize: 450.4 KiB