Package: eiR Version: 1.46.0 Command: /Library/Frameworks/R.framework/Resources/bin/R CMD check --install=check:eiR.install-out.txt --library=/Library/Frameworks/R.framework/Resources/library --no-vignettes --timings eiR_1.46.0.tar.gz StartedAt: 2025-02-04 18:52:31 -0500 (Tue, 04 Feb 2025) EndedAt: 2025-02-04 18:54:32 -0500 (Tue, 04 Feb 2025) EllapsedTime: 121.3 seconds RetCode: 0 Status: OK CheckDir: eiR.Rcheck Warnings: 0