Package: eiR Version: 1.46.0 Command: rm -rf eiR.buildbin-libdir && mkdir eiR.buildbin-libdir && F:\biocbuild\bbs-3.20-bioc\R\bin\R.exe CMD INSTALL --build --library=eiR.buildbin-libdir eiR_1.46.0.tar.gz StartedAt: 2025-02-04 08:25:39 -0500 (Tue, 04 Feb 2025) EndedAt: 2025-02-04 08:26:29 -0500 (Tue, 04 Feb 2025) EllapsedTime: 49.6 seconds RetCode: 0 Status: OK PackageFile: eiR_1.46.0.zip PackageFileSize: 516.9 KiB