Package: eiR Version: 1.46.0 Command: chmod a+r eiR -R && F:\biocbuild\bbs-3.20-bioc\R\bin\R.exe CMD build --keep-empty-dirs --no-resave-data eiR StartedAt: 2025-02-03 18:50:07 -0500 (Mon, 03 Feb 2025) EndedAt: 2025-02-03 18:50:52 -0500 (Mon, 03 Feb 2025) EllapsedTime: 44.7 seconds RetCode: 0 Status: OK PackageFile: eiR_1.46.0.tar.gz PackageFileSize: 675.6 KiB