Package: eiR Version: 1.46.0 Command: F:\biocbuild\bbs-3.20-bioc\R\bin\R.exe CMD INSTALL eiR StartedAt: 2025-02-03 16:22:40 -0500 (Mon, 03 Feb 2025) EndedAt: 2025-02-03 16:23:01 -0500 (Mon, 03 Feb 2025) EllapsedTime: 20.6 seconds RetCode: 0 Status: OK