Package: eiR Version: 1.46.0 Command: /home/biocbuild/R/R/bin/R CMD build --keep-empty-dirs --no-resave-data eiR StartedAt: 2025-02-10 23:10:13 -0000 (Mon, 10 Feb 2025) EndedAt: 2025-02-10 23:10:35 -0000 (Mon, 10 Feb 2025) EllapsedTime: 22.0 seconds RetCode: 0 Status: OK PackageFile: eiR_1.46.0.tar.gz PackageFileSize: 472.4 KiB