Package: eisaR Version: 1.18.0 Command: /Library/Frameworks/R.framework/Resources/bin/R CMD build --keep-empty-dirs --no-resave-data eisaR StartedAt: 2025-02-03 23:03:31 -0500 (Mon, 03 Feb 2025) EndedAt: 2025-02-03 23:05:36 -0500 (Mon, 03 Feb 2025) EllapsedTime: 125.1 seconds RetCode: 0 Status: OK PackageFile: eisaR_1.18.0.tar.gz PackageFileSize: 1.726 MiB