Package: eisaR Version: 1.18.0 Command: /Library/Frameworks/R.framework/Resources/bin/R CMD check --install=check:eisaR.install-out.txt --library=/Library/Frameworks/R.framework/Resources/library --no-vignettes --timings eisaR_1.18.0.tar.gz StartedAt: 2025-02-04 18:52:44 -0500 (Tue, 04 Feb 2025) EndedAt: 2025-02-04 18:56:51 -0500 (Tue, 04 Feb 2025) EllapsedTime: 247.2 seconds RetCode: 0 Status: OK CheckDir: eisaR.Rcheck Warnings: 0