Package: eisaR Version: 1.18.0 Command: rm -rf eisaR.buildbin-libdir && mkdir eisaR.buildbin-libdir && /Users/biocbuild/BBS/utils/build-universal.sh eisaR_1.18.0.tar.gz /Library/Frameworks/R.framework/Resources/bin/R eisaR.buildbin-libdir StartedAt: 2025-02-04 12:53:20 -0500 (Tue, 04 Feb 2025) EndedAt: 2025-02-04 12:54:09 -0500 (Tue, 04 Feb 2025) EllapsedTime: 48.6 seconds RetCode: 0 Status: OK PackageFile: eisaR_1.18.0.tgz PackageFileSize: 1.741 MiB