Package: eisaR Version: 1.18.0 Command: /Library/Frameworks/R.framework/Resources/bin/R CMD build --keep-empty-dirs --no-resave-data eisaR StartedAt: 2025-02-03 18:43:24 -0500 (Mon, 03 Feb 2025) EndedAt: 2025-02-03 18:46:34 -0500 (Mon, 03 Feb 2025) EllapsedTime: 190.2 seconds RetCode: 0 Status: OK PackageFile: eisaR_1.18.0.tar.gz PackageFileSize: 1.714 MiB